BEGIN:VCALENDAR
VERSION:2.0
PRODID:-//MLP//ical//EN
TIMEZONE-ID:Europe/Berlin
X-WR-TIMEZONE:Europe/Berlin
BEGIN:VEVENT
UID:7iug@events.mlp.de
SEQUENCE:0
DTSTAMP:20260423T163935Z
DTSTART:20260522T120000Z
DTEND:20260522T150000Z
SUMMARY:Dein Karriereboost – Rhetorik und Gehaltsverhandlung
LOCATION:\n    HT Essen 01\,\n\n    Lindenallee 43-45\,\n\n    45127 Essen
 \n    
DESCRIPTION:Zur An-/Abmeldung und weiteren Informationen:\nevents.mlp.de/e
 vents/zzgfzynsmf/dein-karriereboost-rhetorik-und-gehaltsverhandlung
END:VEVENT
END:VCALENDAR